BEGIN:VCALENDAR
VERSION:2.0
PRODID:-//Danske Naturister MidtVest - ECPv6.15.15//NONSGML v1.0//EN
CALSCALE:GREGORIAN
METHOD:PUBLISH
X-WR-CALNAME:Danske Naturister MidtVest
X-ORIGINAL-URL:https://dn-midtvest.dk
X-WR-CALDESC:Begivenheder for Danske Naturister MidtVest
REFRESH-INTERVAL;VALUE=DURATION:PT1H
X-Robots-Tag:noindex
X-PUBLISHED-TTL:PT1H
BEGIN:VTIMEZONE
TZID:Europe/Copenhagen
BEGIN:DAYLIGHT
TZOFFSETFROM:+0100
TZOFFSETTO:+0200
TZNAME:CEST
DTSTART:20240331T010000
END:DAYLIGHT
BEGIN:STANDARD
TZOFFSETFROM:+0200
TZOFFSETTO:+0100
TZNAME:CET
DTSTART:20241027T010000
END:STANDARD
BEGIN:DAYLIGHT
TZOFFSETFROM:+0100
TZOFFSETTO:+0200
TZNAME:CEST
DTSTART:20250330T010000
END:DAYLIGHT
BEGIN:STANDARD
TZOFFSETFROM:+0200
TZOFFSETTO:+0100
TZNAME:CET
DTSTART:20251026T010000
END:STANDARD
BEGIN:DAYLIGHT
TZOFFSETFROM:+0100
TZOFFSETTO:+0200
TZNAME:CEST
DTSTART:20260329T010000
END:DAYLIGHT
BEGIN:STANDARD
TZOFFSETFROM:+0200
TZOFFSETTO:+0100
TZNAME:CET
DTSTART:20261025T010000
END:STANDARD
END:VTIMEZONE
BEGIN:VEVENT
DTSTART;TZID=Europe/Copenhagen:20250621T150000
DTEND;TZID=Europe/Copenhagen:20250621T200000
DTSTAMP:20260419T074837
CREATED:20250605T165149Z
LAST-MODIFIED:20250621T130004Z
UID:10000041-1750518000-1750536000@dn-midtvest.dk
SUMMARY:Sæsonåbning af Græm Strand 2025
DESCRIPTION:OBS: Arrangementet er flyttet om på parkeringspladsen ved stranden.  \nTraditionen tro markerer vi sæsonåbning af naturiststranden ved Græm Strand. I år har vi dog valgt at flytte arrangementet til badesøen\, som man kører forbi kort før man ankommer til parkeringspladsen ved Græm Strand. Der vil så være mulighed for at køre den korte tur til parkeringspladsen ved Græm Strand\, hvis man hellere vil bade i Vesterhavet\, såfremt vejret indbyder til dette. Ellers indbyder badesøen med gode forhold\, hvis vinden ikke viser sig fra sin stille side. \nVi mødes ved badesøen kl. 15. Medbring selv kaffe\, kage og hvad du ellers måtte ønske. \nVed spisetid tænder vi grillen\, hvor der er mulighed for at tilberede eget medbragt mad. Husk også selv at med bringe drikkevarer\, service og gerne en stol. \nVi medbringer selvfølgelig mobilsaunaen\, så vi er sikrer på\, at man kan få varmen\, hvis sommeren glemmer at komme. \nHer finder du badesøen: https://maps.app.goo.gl/Ui94NkbbB6fZjxsZ7
URL:https://dn-midtvest.dk/kalender/saesonaabning-af-graem-strand-2025/
LOCATION:Græm Strand\, Græm Vej\, Ulfborg\, 6990\, Denmark
CATEGORIES:Socialt arrangement,Ud i naturen
ATTACH;FMTTYPE=image/jpeg:https://dn-midtvest.dk/wp-content/uploads/sites/6/Indvielse-2025-mmmmmmm-kopier-Kopi.jpg
ORGANIZER;CN="DN MidtVest":MAILTO:midtvest@naturister.dk
END:VEVENT
END:VCALENDAR