BEGIN:VCALENDAR
VERSION:2.0
PRODID:-//Danske Naturister MidtVest - ECPv6.15.15//NONSGML v1.0//EN
CALSCALE:GREGORIAN
METHOD:PUBLISH
X-WR-CALNAME:Danske Naturister MidtVest
X-ORIGINAL-URL:https://dn-midtvest.dk
X-WR-CALDESC:Begivenheder for Danske Naturister MidtVest
REFRESH-INTERVAL;VALUE=DURATION:PT1H
X-Robots-Tag:noindex
X-PUBLISHED-TTL:PT1H
BEGIN:VTIMEZONE
TZID:Europe/Copenhagen
BEGIN:DAYLIGHT
TZOFFSETFROM:+0100
TZOFFSETTO:+0200
TZNAME:CEST
DTSTART:20230326T010000
END:DAYLIGHT
BEGIN:STANDARD
TZOFFSETFROM:+0200
TZOFFSETTO:+0100
TZNAME:CET
DTSTART:20231029T010000
END:STANDARD
BEGIN:DAYLIGHT
TZOFFSETFROM:+0100
TZOFFSETTO:+0200
TZNAME:CEST
DTSTART:20240331T010000
END:DAYLIGHT
BEGIN:STANDARD
TZOFFSETFROM:+0200
TZOFFSETTO:+0100
TZNAME:CET
DTSTART:20241027T010000
END:STANDARD
BEGIN:DAYLIGHT
TZOFFSETFROM:+0100
TZOFFSETTO:+0200
TZNAME:CEST
DTSTART:20250330T010000
END:DAYLIGHT
BEGIN:STANDARD
TZOFFSETFROM:+0200
TZOFFSETTO:+0100
TZNAME:CET
DTSTART:20251026T010000
END:STANDARD
BEGIN:DAYLIGHT
TZOFFSETFROM:+0100
TZOFFSETTO:+0200
TZNAME:CEST
DTSTART:20260329T010000
END:DAYLIGHT
BEGIN:STANDARD
TZOFFSETFROM:+0200
TZOFFSETTO:+0100
TZNAME:CET
DTSTART:20261025T010000
END:STANDARD
BEGIN:DAYLIGHT
TZOFFSETFROM:+0100
TZOFFSETTO:+0200
TZNAME:CEST
DTSTART:20270328T010000
END:DAYLIGHT
BEGIN:STANDARD
TZOFFSETFROM:+0200
TZOFFSETTO:+0100
TZNAME:CET
DTSTART:20271031T010000
END:STANDARD
END:VTIMEZONE
BEGIN:VEVENT
DTSTART;TZID=Europe/Copenhagen:20260321T183000
DTEND;TZID=Europe/Copenhagen:20260321T230000
DTSTAMP:20260419T075004
CREATED:20240613T112949Z
LAST-MODIFIED:20250918T180751Z
UID:10000033-1774117800-1774134000@dn-midtvest.dk
SUMMARY:Wellness i Sydthy Kurbad
DESCRIPTION:Naturistwellness i Sydthy Kurbad – En himmelsk oplevelse… \n\nSydthy Kurbad byder på himmelske omgivelser. Du er altid garanteret en god oplevelse og vores smilende personale står klar til at give en god service. Kurbadet består af 3 områder som ligger i sammenhæng med hinanden: Caféen\, Kurbadsområdet og Kurbadshaven. \nCaféen \nHer i caféen kan du nyde godt af isvand\, frugt og varme drikke som er inkluderet i entré prisen. Der er borde og stole\, så der er plads til at sidde og slappe af imens man lytter til dæmpet musik. \nKurbadsområdet \nI selve kurbadsområdet har vi en finsk sauna (80-100 gr.)\, en biosauna (60 gr.) hvor der er lidt aroma\, en soft-sauna (42 gr.) hvor lyset skifter farve\, en infrarød sauna samt en anden soft-sauna\, hvor væggene er lavet af salt. Derudover har vi et dampbad\, oplevelsesbruser\, koldtvandsrum\, varmebænk m/fodbad og et stort massagebassin (36 gr.) hvor du kan ligge og se på vores stjernehimmel imens du slapper af til dæmpet musik. \n  \nKurbadshaven \nKurbadshaven byder på en udendørs sauna med glasbund\, der er bygget på pæle i en sø med guldfisk. Derudover er der en 6-personers spa\, to vildmarksbade som bliver fyret op med brænde (ca. 40-42 gr.)\, samt en svedetipi med rigtig indianer-stemning. I kurbadshaven er der også et varmt saltbassin\, en infrarød sauna samt flere hyggekroge\, hvor man kan sidde og blive afkølet. \nMan kan også købe en “Wellness YourSelf”-pakke bestående af salt fra det døde hav til at peele kroppen med\, en PapayaMelon-kropsmaske\, en Medex Lavendula ansigtsmaske samt bodymilk til efter badet. \nLæs den fulde beskrivelse af arrangementet her
URL:https://dn-midtvest.dk/kalender/wellness-i-sydthy-kurbad/2026-03-21/
LOCATION:Sydthy Kurbad\, Idrætsvej 5\, Hurup Thy\, 7760\, Danmark
CATEGORIES:Wellness
ATTACH;FMTTYPE=image/jpeg:https://dn-midtvest.dk/wp-content/uploads/sites/6/20221126_230205-kopier-1.jpg
ORGANIZER;CN="DN MidtVest":MAILTO:midtvest@naturister.dk
END:VEVENT
BEGIN:VEVENT
DTSTART;TZID=Europe/Copenhagen:20260124T183000
DTEND;TZID=Europe/Copenhagen:20260124T230000
DTSTAMP:20260419T075004
CREATED:20240613T112949Z
LAST-MODIFIED:20250918T180751Z
UID:10000032-1769279400-1769295600@dn-midtvest.dk
SUMMARY:Wellness i Sydthy Kurbad
DESCRIPTION:Naturistwellness i Sydthy Kurbad – En himmelsk oplevelse… \n\nSydthy Kurbad byder på himmelske omgivelser. Du er altid garanteret en god oplevelse og vores smilende personale står klar til at give en god service. Kurbadet består af 3 områder som ligger i sammenhæng med hinanden: Caféen\, Kurbadsområdet og Kurbadshaven. \nCaféen \nHer i caféen kan du nyde godt af isvand\, frugt og varme drikke som er inkluderet i entré prisen. Der er borde og stole\, så der er plads til at sidde og slappe af imens man lytter til dæmpet musik. \nKurbadsområdet \nI selve kurbadsområdet har vi en finsk sauna (80-100 gr.)\, en biosauna (60 gr.) hvor der er lidt aroma\, en soft-sauna (42 gr.) hvor lyset skifter farve\, en infrarød sauna samt en anden soft-sauna\, hvor væggene er lavet af salt. Derudover har vi et dampbad\, oplevelsesbruser\, koldtvandsrum\, varmebænk m/fodbad og et stort massagebassin (36 gr.) hvor du kan ligge og se på vores stjernehimmel imens du slapper af til dæmpet musik. \n  \nKurbadshaven \nKurbadshaven byder på en udendørs sauna med glasbund\, der er bygget på pæle i en sø med guldfisk. Derudover er der en 6-personers spa\, to vildmarksbade som bliver fyret op med brænde (ca. 40-42 gr.)\, samt en svedetipi med rigtig indianer-stemning. I kurbadshaven er der også et varmt saltbassin\, en infrarød sauna samt flere hyggekroge\, hvor man kan sidde og blive afkølet. \nMan kan også købe en “Wellness YourSelf”-pakke bestående af salt fra det døde hav til at peele kroppen med\, en PapayaMelon-kropsmaske\, en Medex Lavendula ansigtsmaske samt bodymilk til efter badet. \nLæs den fulde beskrivelse af arrangementet her
URL:https://dn-midtvest.dk/kalender/wellness-i-sydthy-kurbad/2026-01-24/
LOCATION:Sydthy Kurbad\, Idrætsvej 5\, Hurup Thy\, 7760\, Danmark
CATEGORIES:Wellness
ATTACH;FMTTYPE=image/jpeg:https://dn-midtvest.dk/wp-content/uploads/sites/6/20221126_230205-kopier-1.jpg
ORGANIZER;CN="DN MidtVest":MAILTO:midtvest@naturister.dk
END:VEVENT
BEGIN:VEVENT
DTSTART;TZID=Europe/Copenhagen:20251122T183000
DTEND;TZID=Europe/Copenhagen:20251122T230000
DTSTAMP:20260419T075004
CREATED:20240613T112949Z
LAST-MODIFIED:20250918T180751Z
UID:10000031-1763836200-1763852400@dn-midtvest.dk
SUMMARY:Wellness i Sydthy Kurbad
DESCRIPTION:Naturistwellness i Sydthy Kurbad – En himmelsk oplevelse… \n\nSydthy Kurbad byder på himmelske omgivelser. Du er altid garanteret en god oplevelse og vores smilende personale står klar til at give en god service. Kurbadet består af 3 områder som ligger i sammenhæng med hinanden: Caféen\, Kurbadsområdet og Kurbadshaven. \nCaféen \nHer i caféen kan du nyde godt af isvand\, frugt og varme drikke som er inkluderet i entré prisen. Der er borde og stole\, så der er plads til at sidde og slappe af imens man lytter til dæmpet musik. \nKurbadsområdet \nI selve kurbadsområdet har vi en finsk sauna (80-100 gr.)\, en biosauna (60 gr.) hvor der er lidt aroma\, en soft-sauna (42 gr.) hvor lyset skifter farve\, en infrarød sauna samt en anden soft-sauna\, hvor væggene er lavet af salt. Derudover har vi et dampbad\, oplevelsesbruser\, koldtvandsrum\, varmebænk m/fodbad og et stort massagebassin (36 gr.) hvor du kan ligge og se på vores stjernehimmel imens du slapper af til dæmpet musik. \n  \nKurbadshaven \nKurbadshaven byder på en udendørs sauna med glasbund\, der er bygget på pæle i en sø med guldfisk. Derudover er der en 6-personers spa\, to vildmarksbade som bliver fyret op med brænde (ca. 40-42 gr.)\, samt en svedetipi med rigtig indianer-stemning. I kurbadshaven er der også et varmt saltbassin\, en infrarød sauna samt flere hyggekroge\, hvor man kan sidde og blive afkølet. \nMan kan også købe en “Wellness YourSelf”-pakke bestående af salt fra det døde hav til at peele kroppen med\, en PapayaMelon-kropsmaske\, en Medex Lavendula ansigtsmaske samt bodymilk til efter badet. \nLæs den fulde beskrivelse af arrangementet her
URL:https://dn-midtvest.dk/kalender/wellness-i-sydthy-kurbad/2025-11-22/
LOCATION:Sydthy Kurbad\, Idrætsvej 5\, Hurup Thy\, 7760\, Danmark
CATEGORIES:Wellness
ATTACH;FMTTYPE=image/jpeg:https://dn-midtvest.dk/wp-content/uploads/sites/6/20221126_230205-kopier-1.jpg
ORGANIZER;CN="DN MidtVest":MAILTO:midtvest@naturister.dk
END:VEVENT
BEGIN:VEVENT
DTSTART;TZID=Europe/Copenhagen:20250322T183000
DTEND;TZID=Europe/Copenhagen:20250322T230000
DTSTAMP:20260419T075004
CREATED:20240613T112949Z
LAST-MODIFIED:20250918T180751Z
UID:10000003-1742668200-1742684400@dn-midtvest.dk
SUMMARY:Wellness i Sydthy Kurbad
DESCRIPTION:Naturistwellness i Sydthy Kurbad – En himmelsk oplevelse… \n\nSydthy Kurbad byder på himmelske omgivelser. Du er altid garanteret en god oplevelse og vores smilende personale står klar til at give en god service. Kurbadet består af 3 områder som ligger i sammenhæng med hinanden: Caféen\, Kurbadsområdet og Kurbadshaven. \nCaféen \nHer i caféen kan du nyde godt af isvand\, frugt og varme drikke som er inkluderet i entré prisen. Der er borde og stole\, så der er plads til at sidde og slappe af imens man lytter til dæmpet musik. \nKurbadsområdet \nI selve kurbadsområdet har vi en finsk sauna (80-100 gr.)\, en biosauna (60 gr.) hvor der er lidt aroma\, en soft-sauna (42 gr.) hvor lyset skifter farve\, en infrarød sauna samt en anden soft-sauna\, hvor væggene er lavet af salt. Derudover har vi et dampbad\, oplevelsesbruser\, koldtvandsrum\, varmebænk m/fodbad og et stort massagebassin (36 gr.) hvor du kan ligge og se på vores stjernehimmel imens du slapper af til dæmpet musik. \n  \nKurbadshaven \nKurbadshaven byder på en udendørs sauna med glasbund\, der er bygget på pæle i en sø med guldfisk. Derudover er der en 6-personers spa\, to vildmarksbade som bliver fyret op med brænde (ca. 40-42 gr.)\, samt en svedetipi med rigtig indianer-stemning. I kurbadshaven er der også et varmt saltbassin\, en infrarød sauna samt flere hyggekroge\, hvor man kan sidde og blive afkølet. \nMan kan også købe en “Wellness YourSelf”-pakke bestående af salt fra det døde hav til at peele kroppen med\, en PapayaMelon-kropsmaske\, en Medex Lavendula ansigtsmaske samt bodymilk til efter badet. \nLæs den fulde beskrivelse af arrangementet her
URL:https://dn-midtvest.dk/kalender/wellness-i-sydthy-kurbad/2025-03-22/
LOCATION:Sydthy Kurbad\, Idrætsvej 5\, Hurup Thy\, 7760\, Danmark
CATEGORIES:Wellness
ATTACH;FMTTYPE=image/jpeg:https://dn-midtvest.dk/wp-content/uploads/sites/6/20221126_230205-kopier-1.jpg
ORGANIZER;CN="DN MidtVest":MAILTO:midtvest@naturister.dk
END:VEVENT
BEGIN:VEVENT
DTSTART;TZID=Europe/Copenhagen:20250125T183000
DTEND;TZID=Europe/Copenhagen:20250125T230000
DTSTAMP:20260419T075004
CREATED:20240613T112949Z
LAST-MODIFIED:20250918T180751Z
UID:10000002-1737829800-1737846000@dn-midtvest.dk
SUMMARY:Wellness i Sydthy Kurbad
DESCRIPTION:Naturistwellness i Sydthy Kurbad – En himmelsk oplevelse… \n\nSydthy Kurbad byder på himmelske omgivelser. Du er altid garanteret en god oplevelse og vores smilende personale står klar til at give en god service. Kurbadet består af 3 områder som ligger i sammenhæng med hinanden: Caféen\, Kurbadsområdet og Kurbadshaven. \nCaféen \nHer i caféen kan du nyde godt af isvand\, frugt og varme drikke som er inkluderet i entré prisen. Der er borde og stole\, så der er plads til at sidde og slappe af imens man lytter til dæmpet musik. \nKurbadsområdet \nI selve kurbadsområdet har vi en finsk sauna (80-100 gr.)\, en biosauna (60 gr.) hvor der er lidt aroma\, en soft-sauna (42 gr.) hvor lyset skifter farve\, en infrarød sauna samt en anden soft-sauna\, hvor væggene er lavet af salt. Derudover har vi et dampbad\, oplevelsesbruser\, koldtvandsrum\, varmebænk m/fodbad og et stort massagebassin (36 gr.) hvor du kan ligge og se på vores stjernehimmel imens du slapper af til dæmpet musik. \n  \nKurbadshaven \nKurbadshaven byder på en udendørs sauna med glasbund\, der er bygget på pæle i en sø med guldfisk. Derudover er der en 6-personers spa\, to vildmarksbade som bliver fyret op med brænde (ca. 40-42 gr.)\, samt en svedetipi med rigtig indianer-stemning. I kurbadshaven er der også et varmt saltbassin\, en infrarød sauna samt flere hyggekroge\, hvor man kan sidde og blive afkølet. \nMan kan også købe en “Wellness YourSelf”-pakke bestående af salt fra det døde hav til at peele kroppen med\, en PapayaMelon-kropsmaske\, en Medex Lavendula ansigtsmaske samt bodymilk til efter badet. \nLæs den fulde beskrivelse af arrangementet her
URL:https://dn-midtvest.dk/kalender/wellness-i-sydthy-kurbad/2025-01-25/
LOCATION:Sydthy Kurbad\, Idrætsvej 5\, Hurup Thy\, 7760\, Danmark
CATEGORIES:Wellness
ATTACH;FMTTYPE=image/jpeg:https://dn-midtvest.dk/wp-content/uploads/sites/6/20221126_230205-kopier-1.jpg
ORGANIZER;CN="DN MidtVest":MAILTO:midtvest@naturister.dk
END:VEVENT
BEGIN:VEVENT
DTSTART;TZID=Europe/Copenhagen:20241123T183000
DTEND;TZID=Europe/Copenhagen:20241123T230000
DTSTAMP:20260419T075004
CREATED:20240625T170746Z
LAST-MODIFIED:20240726T073453Z
UID:10000012-1732386600-1732402800@dn-midtvest.dk
SUMMARY:Wellness i Sydthy Kurbad
DESCRIPTION:Naturistwellness i Sydthy Kurbad – En himmelsk oplevelse… \n\nSydthy Kurbad byder på himmelske omgivelser. Du er altid garanteret en god oplevelse og vores smilende personale står klar til at give en god service. Kurbadet består af 3 områder som ligger i sammenhæng med hinanden: Caféen\, Kurbadsområdet og Kurbadshaven. \nCaféen \nHer i caféen kan du nyde godt af isvand\, frugt og varme drikke som er inkluderet i entré prisen. Der er borde og stole\, så der er plads til at sidde og slappe af imens man lytter til dæmpet musik. \nKurbadsområdet \nI selve kurbadsområdet har vi en finsk sauna (80-100 gr.)\, en biosauna (60 gr.) hvor der er lidt aroma\, en soft-sauna (42 gr.) hvor lyset skifter farve\, en infrarød sauna samt en anden soft-sauna\, hvor væggene er lavet af salt. Derudover har vi et dampbad\, oplevelsesbruser\, koldtvandsrum\, varmebænk m/fodbad og et stort massagebassin (36 gr.) hvor du kan ligge og se på vores stjernehimmel imens du slapper af til dæmpet musik. \nKurbadshaven \nKurbadshaven byder på en udendørs sauna med glasbund\, der er bygget på pæle i en sø med guldfisk. Derudover er der en 6-personers spa\, to vildmarksbade som bliver fyret op med brænde (ca. 40-42 gr.)\, samt en svedetipi med rigtig indianer-stemning. I kurbadshaven er der også et varmt saltbassin\, en infrarød sauna samt flere hyggekroge\, hvor man kan sidde og blive afkølet. \nMan kan også købe en “Wellness YourSelf”-pakke bestående af salt fra det døde hav til at peele kroppen med\, en PapayaMelon-kropsmaske\, en Medex Lavendula ansigtsmaske samt bodymilk til efter badet. \nLæs den fulde beskrivelse af arrangementet her
URL:https://dn-midtvest.dk/kalender/wellness-i-sydthy-kurbad-2/
LOCATION:Sydthy Kurbad\, Idrætsvej 5\, Hurup Thy\, 7760\, Danmark
CATEGORIES:Wellness
ATTACH;FMTTYPE=image/jpeg:https://dn-midtvest.dk/wp-content/uploads/sites/6/20221126_230205-kopier-1.jpg
ORGANIZER;CN="DN MidtVest":MAILTO:midtvest@naturister.dk
END:VEVENT
END:VCALENDAR